BEGIN:VCALENDAR
VERSION:2.0
PRODID:-//Endothek - ECPv6.15.20//NONSGML v1.0//EN
CALSCALE:GREGORIAN
METHOD:PUBLISH
X-WR-CALNAME:Endothek
X-ORIGINAL-URL:https://www.endothek.at
X-WR-CALDESC:Events for Endothek
REFRESH-INTERVAL;VALUE=DURATION:PT1H
X-Robots-Tag:noindex
X-PUBLISHED-TTL:PT1H
BEGIN:VTIMEZONE
TZID:Europe/Vienna
BEGIN:DAYLIGHT
TZOFFSETFROM:+0100
TZOFFSETTO:+0200
TZNAME:CEST
DTSTART:20240331T010000
END:DAYLIGHT
BEGIN:STANDARD
TZOFFSETFROM:+0200
TZOFFSETTO:+0100
TZNAME:CET
DTSTART:20241027T010000
END:STANDARD
BEGIN:DAYLIGHT
TZOFFSETFROM:+0100
TZOFFSETTO:+0200
TZNAME:CEST
DTSTART:20250330T010000
END:DAYLIGHT
BEGIN:STANDARD
TZOFFSETFROM:+0200
TZOFFSETTO:+0100
TZNAME:CET
DTSTART:20251026T010000
END:STANDARD
BEGIN:DAYLIGHT
TZOFFSETFROM:+0100
TZOFFSETTO:+0200
TZNAME:CEST
DTSTART:20260329T010000
END:DAYLIGHT
BEGIN:STANDARD
TZOFFSETFROM:+0200
TZOFFSETTO:+0100
TZNAME:CET
DTSTART:20261025T010000
END:STANDARD
BEGIN:DAYLIGHT
TZOFFSETFROM:+0100
TZOFFSETTO:+0200
TZNAME:CEST
DTSTART:20270328T010000
END:DAYLIGHT
BEGIN:STANDARD
TZOFFSETFROM:+0200
TZOFFSETTO:+0100
TZNAME:CET
DTSTART:20271031T010000
END:STANDARD
END:VTIMEZONE
BEGIN:VEVENT
DTSTART;TZID=Europe/Vienna:20251020T090000
DTEND;TZID=Europe/Vienna:20251022T143000
DTSTAMP:20260424T023043
CREATED:20251001T053523Z
LAST-MODIFIED:20251021T053904Z
UID:2759-1760950800-1761143400@www.endothek.at
SUMMARY:3. Linzer BASISKURS in gastrointestinaler Endoskopie
DESCRIPTION:Wir laden Sie herzlich zur Teilnahme am dritten Linzer Basiskurs in gastrointestinaler Endoskopie ein. Denen\, die am Beginn Ihrer Ausbildung in der Endoskopie stehen\, wollen wir in einem intensiven Training die Basis zu Gastroskopie und Koloskopie bis zur einfachen Blutstillung und Polypektomie vermitteln. Theorie und praktische Übungen mit Anleitung durch erfahrene Tutoren erfolgen in Kleingruppen. \nWir freuen uns\, wenn wir Sie in Linz begrüßen dürfen\,\nMelanie Kienbauer und Philipp Pimingstorfer
URL:https://www.endothek.at/event/3-linzer-basiskurs-in-gastrointestinaler-endoskopie/
LOCATION:Kepler Uniklinikum\, Krankenhausstraße 9\, Linz\, 4020\, Austria
CATEGORIES:Workshop
ATTACH;FMTTYPE=image/jpeg:https://www.endothek.at/wordpress/wp-content/uploads/2025/10/endobasics_2025.jpeg
ORGANIZER;CN="MAW":MAILTO:maw@media.co.at
END:VEVENT
BEGIN:VEVENT
DTSTART;TZID=Europe/Vienna:20260319T080000
DTEND;TZID=Europe/Vienna:20260320T163000
DTSTAMP:20260424T023043
CREATED:20260128T074904Z
LAST-MODIFIED:20260128T074904Z
UID:2771-1773907200-1774024200@www.endothek.at
SUMMARY:Endo Linz 2026
DESCRIPTION:Liebe Kolleginnen und Kollegen\,\nmit großer Freude laden wir Sie zu Endo Linz 2026 ein\, einer Veranstaltung\, die im Zeichen des fachlichen Austauschs\, der interdisziplinären und vor allem interprofessionellen Zusammenarbeit stehen wird. Endo Linz hat sich in den vergangenen Jahren als Plattform etabliert\, um aktuelle Entwicklungen\, bewährte Konzepte und zukunftsweisende Ansätze im Bereich der Endoskopie zu diskutieren. \nAuch 2026 möchten wir Ihnen ein abwechslungsreiches und praxisnahes Programm bieten\, das neueste wissenschaftliche Erkenntnisse mit klinischer Erfahrung verbindet. Vortragende werden ihre Perspektiven teilen und kontroverse Themen beleuchten mit ausreichend Raum für gemeinsame Diskussion.\nIn Live Übertragungen werden wir Sie wieder in die Endoskopie des Ordensklinikums entführen. Der persönliche Austausch\, das Lernen voneinander und das gemeinsame Weiterdenken stehen dabei im Mittelpunkt. \nWir freuen uns darauf\, Sie in Linz willkommen zu heißen und gemeinsam mit Ihnen Endo Linz 2026 zu einem inspirierenden und bereichernden Treffen zu machen. \nMit freundlichen Grüßen\nDas Organisationsteam
URL:https://www.endothek.at/event/endo-linz-2026/
LOCATION:Power Tower\, Böhmerwaldstraße 3\, Linz\, 4020\, Austria
CATEGORIES:Kongress
ATTACH;FMTTYPE=image/png:https://www.endothek.at/wordpress/wp-content/uploads/2026/01/endo_linz_2026_header.png
ORGANIZER;CN="MAW":MAILTO:maw@media.co.at
END:VEVENT
END:VCALENDAR