BEGIN:VCALENDAR
VERSION:2.0
PRODID:-//Endothek - ECPv6.15.20//NONSGML v1.0//EN
CALSCALE:GREGORIAN
METHOD:PUBLISH
X-WR-CALNAME:Endothek
X-ORIGINAL-URL:https://www.endothek.at
X-WR-CALDESC:Events for Endothek
REFRESH-INTERVAL;VALUE=DURATION:PT1H
X-Robots-Tag:noindex
X-PUBLISHED-TTL:PT1H
BEGIN:VTIMEZONE
TZID:Europe/Vienna
BEGIN:DAYLIGHT
TZOFFSETFROM:+0100
TZOFFSETTO:+0200
TZNAME:CEST
DTSTART:20220327T010000
END:DAYLIGHT
BEGIN:STANDARD
TZOFFSETFROM:+0200
TZOFFSETTO:+0100
TZNAME:CET
DTSTART:20221030T010000
END:STANDARD
BEGIN:DAYLIGHT
TZOFFSETFROM:+0100
TZOFFSETTO:+0200
TZNAME:CEST
DTSTART:20230326T010000
END:DAYLIGHT
BEGIN:STANDARD
TZOFFSETFROM:+0200
TZOFFSETTO:+0100
TZNAME:CET
DTSTART:20231029T010000
END:STANDARD
BEGIN:DAYLIGHT
TZOFFSETFROM:+0100
TZOFFSETTO:+0200
TZNAME:CEST
DTSTART:20240331T010000
END:DAYLIGHT
BEGIN:STANDARD
TZOFFSETFROM:+0200
TZOFFSETTO:+0100
TZNAME:CET
DTSTART:20241027T010000
END:STANDARD
END:VTIMEZONE
BEGIN:VEVENT
DTSTART;TZID=Europe/Vienna:20230504T124500
DTEND;TZID=Europe/Vienna:20230505T170000
DTSTAMP:20260424T061353
CREATED:20230122T131512Z
LAST-MODIFIED:20230122T131512Z
UID:2665-1683204300-1683306000@www.endothek.at
SUMMARY:Endo Linz 2023
DESCRIPTION:Liebe Kolleginnen und Kollegen\, \ndas Ordensklinikum und das Kepler Universitätsklinikum laden Sie herzlich ein\, Anfang Mai nach Linz zu kommen. In gewohnter Weise stellen wir\, als jeweilige chirurgische und gastroenterologische Abteilungen beider Häuser\, die Interdisziplinarität in den Mittelpunkt. \nUnter dem Motto „ENDOSKOPIE und ONKOLOGIE – von früh bis spät“ wollen wir uns dieses Jahr der „onkologischen“ Endoskopie von Frühstadien bis zum palliativen Management widmen. Der Umgang mit Malignomen bei der Erstendoskopie in der Ordination\, über therapeutische Möglichkeiten bis hin zu möglichen palliativen Maßnahmen werden zum Thema. Wir wollen gemeinsam in die Zukunft blicken und über mögliche erweiterte Strategien jenseits aktueller Guidelines diskutieren. \nFür Auflockerung und Abwechslung sollen Videobeiträge aus beiden Häusern sorgen. Endoskopie als Teamarbeit beinhaltet die Zusammenarbeit zwischen Pflege und Medizinern\, sodass wir beiden Berufsgruppen ein interessantes Programm bieten wollen. \nIhr Organisationskomitee
URL:https://www.endothek.at/event/endo-linz-2023/
LOCATION:Power Tower\, Böhmerwaldstraße 3\, Linz\, 4020\, Austria
CATEGORIES:Kongress
ATTACH;FMTTYPE=image/png:https://www.endothek.at/wordpress/wp-content/uploads/2023/01/endolinz_2023_banner.png
ORGANIZER;CN="MAW":MAILTO:maw@media.co.at
END:VEVENT
END:VCALENDAR