BEGIN:VCALENDAR
VERSION:2.0
PRODID:-//Endothek - ECPv6.15.20//NONSGML v1.0//EN
CALSCALE:GREGORIAN
METHOD:PUBLISH
X-WR-CALNAME:Endothek
X-ORIGINAL-URL:https://www.endothek.at
X-WR-CALDESC:Events for Endothek
REFRESH-INTERVAL;VALUE=DURATION:PT1H
X-Robots-Tag:noindex
X-PUBLISHED-TTL:PT1H
BEGIN:VTIMEZONE
TZID:Europe/Vienna
BEGIN:DAYLIGHT
TZOFFSETFROM:+0100
TZOFFSETTO:+0200
TZNAME:CEST
DTSTART:20220327T010000
END:DAYLIGHT
BEGIN:STANDARD
TZOFFSETFROM:+0200
TZOFFSETTO:+0100
TZNAME:CET
DTSTART:20221030T010000
END:STANDARD
BEGIN:DAYLIGHT
TZOFFSETFROM:+0100
TZOFFSETTO:+0200
TZNAME:CEST
DTSTART:20230326T010000
END:DAYLIGHT
BEGIN:STANDARD
TZOFFSETFROM:+0200
TZOFFSETTO:+0100
TZNAME:CET
DTSTART:20231029T010000
END:STANDARD
BEGIN:DAYLIGHT
TZOFFSETFROM:+0100
TZOFFSETTO:+0200
TZNAME:CEST
DTSTART:20240331T010000
END:DAYLIGHT
BEGIN:STANDARD
TZOFFSETFROM:+0200
TZOFFSETTO:+0100
TZNAME:CET
DTSTART:20241027T010000
END:STANDARD
END:VTIMEZONE
BEGIN:VEVENT
DTSTART;TZID=Europe/Vienna:20230608T120000
DTEND;TZID=Europe/Vienna:20230609T170000
DTSTAMP:20260422T032719
CREATED:20230601T081805Z
LAST-MODIFIED:20230601T081805Z
UID:2685-1686225600-1686330000@www.endothek.at
SUMMARY:Endoscopy On Air Global Event 2023
DESCRIPTION:Endoscopy On Air Global Event 2023 aspires to be the cornerstone annual Endoscopy event that introduces all the latest innovations releasing to the public the culmination of years of professional experience. Your presence inspires us to do more and better. \nContinuous endoscopy education brings better value to both professionals and patients and bridges everyday endoscopy practice with innovation and new technologies. We will be presenting the latest and greatest in endoscopy. Watch. Learn. Be Inspired! \nAn opportunity to see some of the best professionals in the world\, while participating in in-depth conversations. Become a member of our global community and contribute to the growing endoscopy field. \nIn the digital era\, we bring to you a marathon broadcast with unrestricted access\, made possible by a team of specialists across the world. Highly skilled professionals make sure you have access to medical knowledge at any time and at any place. \n 
URL:https://www.endothek.at/event/endoscopy-on-air-global-event-2023/
LOCATION:Online
CATEGORIES:Webinar
ATTACH;FMTTYPE=image/jpeg:https://www.endothek.at/wordpress/wp-content/uploads/2023/06/eoa_logo.jpg
END:VEVENT
END:VCALENDAR