BEGIN:VCALENDAR
VERSION:2.0
PRODID:-//Endothek - ECPv6.15.20//NONSGML v1.0//EN
CALSCALE:GREGORIAN
METHOD:PUBLISH
X-ORIGINAL-URL:https://www.endothek.at
X-WR-CALDESC:Events for Endothek
REFRESH-INTERVAL;VALUE=DURATION:PT1H
X-Robots-Tag:noindex
X-PUBLISHED-TTL:PT1H
BEGIN:VTIMEZONE
TZID:Europe/Vienna
BEGIN:DAYLIGHT
TZOFFSETFROM:+0100
TZOFFSETTO:+0200
TZNAME:CEST
DTSTART:20230326T010000
END:DAYLIGHT
BEGIN:STANDARD
TZOFFSETFROM:+0200
TZOFFSETTO:+0100
TZNAME:CET
DTSTART:20231029T010000
END:STANDARD
BEGIN:DAYLIGHT
TZOFFSETFROM:+0100
TZOFFSETTO:+0200
TZNAME:CEST
DTSTART:20240331T010000
END:DAYLIGHT
BEGIN:STANDARD
TZOFFSETFROM:+0200
TZOFFSETTO:+0100
TZNAME:CET
DTSTART:20241027T010000
END:STANDARD
BEGIN:DAYLIGHT
TZOFFSETFROM:+0100
TZOFFSETTO:+0200
TZNAME:CEST
DTSTART:20250330T010000
END:DAYLIGHT
BEGIN:STANDARD
TZOFFSETFROM:+0200
TZOFFSETTO:+0100
TZNAME:CET
DTSTART:20251026T010000
END:STANDARD
END:VTIMEZONE
BEGIN:VEVENT
DTSTART;TZID=Europe/Vienna:20241004T080000
DTEND;TZID=Europe/Vienna:20241004T210000
DTSTAMP:20260423T041532
CREATED:20241004T045808Z
LAST-MODIFIED:20241004T050301Z
UID:2732-1728028800-1728075600@www.endothek.at
SUMMARY:EUS Skyline
DESCRIPTION:EUS Skyline: Growing Stronger\nWe are thrilled to announce our partnership for the 3rd edition of EUS Skyline\, taking place on October 4th\, 2024. This year’s course will be bigger than ever\, offering exciting opportunities to expand our global reach and engage with a wider audience. By leveraging the technological platforms of both EUS Skyline and Endoscopy On Air\, we are poised to reach new horizons in endoscopic ultrasound education. \nThis collaboration not only extends the reach of our broadcast but also strengthens the synergy between our communities\, fostering greater interaction and knowledge-sharing. \nJoin us for EUS Skyline 2024!
URL:https://www.endothek.at/event/eus-skyline/
LOCATION:Online
CATEGORIES:Webinar
ATTACH;FMTTYPE=image/png:https://www.endothek.at/wordpress/wp-content/uploads/2024/10/eus_skyline.png
END:VEVENT
END:VCALENDAR